BEGIN:VCALENDAR
VERSION:2.0
PRODID:icalendar-ruby
CALSCALE:GREGORIAN
METHOD:PUBLISH
BEGIN:VEVENT
DTSTAMP:20260420T022714Z
UID:1-557587@lighthousegalvestonchurch.com
DTSTART:20260927T160000Z
DTEND:20260927T170000Z
CLASS:PUBLIC
CREATED:20260419T191631
DESCRIPTION:Join us in Prayer\, Worship and the Word\n 
LAST-MODIFIED:20260419T191631
LOCATION:
SUMMARY:Sunday Worship Service
URL;VALUE=URI:https://www.lighthousegalvestonchurch.com/events/sunday-worsh
 ip-service/2026-09-27
ATTACH;FILENAME=Audience Member Photo_1.png;FMTTYPE=image/png:https://dq5pw
 pg1q8ru0.cloudfront.net/2025/11/13/20/28/35/3d26b41d-62be-48c9-a099-b8a971
 ad7b19/Audience%20Member%20Photo_1.png
END:VEVENT
END:VCALENDAR
